BEGIN:VCALENDAR
VERSION:2.0
PRODID:-//ruderakademie.de - ECPv6.15.20//NONSGML v1.0//EN
CALSCALE:GREGORIAN
METHOD:PUBLISH
X-ORIGINAL-URL:https://www.ruderakademie.de
X-WR-CALDESC:Veranstaltungen für ruderakademie.de
REFRESH-INTERVAL;VALUE=DURATION:PT1H
X-Robots-Tag:noindex
X-PUBLISHED-TTL:PT1H
BEGIN:VTIMEZONE
TZID:Europe/Berlin
BEGIN:DAYLIGHT
TZOFFSETFROM:+0100
TZOFFSETTO:+0200
TZNAME:CEST
DTSTART:20260329T010000
END:DAYLIGHT
BEGIN:STANDARD
TZOFFSETFROM:+0200
TZOFFSETTO:+0100
TZNAME:CET
DTSTART:20261025T010000
END:STANDARD
BEGIN:DAYLIGHT
TZOFFSETFROM:+0100
TZOFFSETTO:+0200
TZNAME:CEST
DTSTART:20270328T010000
END:DAYLIGHT
BEGIN:STANDARD
TZOFFSETFROM:+0200
TZOFFSETTO:+0100
TZNAME:CET
DTSTART:20271031T010000
END:STANDARD
BEGIN:DAYLIGHT
TZOFFSETFROM:+0100
TZOFFSETTO:+0200
TZNAME:CEST
DTSTART:20280326T010000
END:DAYLIGHT
BEGIN:STANDARD
TZOFFSETFROM:+0200
TZOFFSETTO:+0100
TZNAME:CET
DTSTART:20281029T010000
END:STANDARD
END:VTIMEZONE
BEGIN:VEVENT
DTSTART;VALUE=DATE:20270129
DTEND;VALUE=DATE:20270201
DTSTAMP:20260420T113049
CREATED:20240524T071523Z
LAST-MODIFIED:20260326T080601Z
UID:8616-1801180800-1801439999@www.ruderakademie.de
SUMMARY:DRV-Rudersymposium
DESCRIPTION:Save the Date\nNächstes Rudersymposium in Vorbereitung\nVom 29. bis 31. Januar 2027 findet in der Akademie des Sports in Hannover das nächste Rudersymposium des Deutschen Ruderverbandes (DRV) statt. \nBenachrichtigung\nDie Ausschreibung und die Anmeldung in SAMS sind in Vorbereitung. Falls Sie benachrichtigt werden möchten\, sobald diese vorliegen\, benutzen Sie bitte das Formular Benachrichtigung Rudersymposium 2027 \nDRV-Lizenz\nDiese Fortbildung verlängert die Lizenzen von Trainer/-innen Rudern der ersten bis dritten Lizenzstufe. Weitere Hinweise zu Fortbildungen siehe www.rudern.de/bildung \n 
URL:https://www.ruderakademie.de/event/rudersymposium2027/
LOCATION:Akademie des Sports/LandesSportBund Niedersachsen\, Ferdinand-Wilhelm-Fricke-Weg 10\, Hannover\, 30169\, Deutschland
CATEGORIES:fortbildung
ATTACH;FMTTYPE=image/png:https://www.ruderakademie.de/wp-content/uploads/2024/05/DRV-Rudersymposium-2027.png
ORGANIZER;CN="Deutscher Ruderverband":MAILTO:info@rudern.de
END:VEVENT
END:VCALENDAR